BEGIN:VCALENDAR
VERSION:2.0
PRODID:-//First Coast Fly Fishers - ECPv6.15.20//NONSGML v1.0//EN
CALSCALE:GREGORIAN
METHOD:PUBLISH
X-ORIGINAL-URL:https://fcff.org
X-WR-CALDESC:Events for First Coast Fly Fishers
REFRESH-INTERVAL;VALUE=DURATION:PT1H
X-Robots-Tag:noindex
X-PUBLISHED-TTL:PT1H
BEGIN:VTIMEZONE
TZID:America/New_York
BEGIN:DAYLIGHT
TZOFFSETFROM:-0500
TZOFFSETTO:-0400
TZNAME:EDT
DTSTART:20250309T070000
END:DAYLIGHT
BEGIN:STANDARD
TZOFFSETFROM:-0400
TZOFFSETTO:-0500
TZNAME:EST
DTSTART:20251102T060000
END:STANDARD
BEGIN:DAYLIGHT
TZOFFSETFROM:-0500
TZOFFSETTO:-0400
TZNAME:EDT
DTSTART:20260308T070000
END:DAYLIGHT
BEGIN:STANDARD
TZOFFSETFROM:-0400
TZOFFSETTO:-0500
TZNAME:EST
DTSTART:20261101T060000
END:STANDARD
BEGIN:DAYLIGHT
TZOFFSETFROM:-0500
TZOFFSETTO:-0400
TZNAME:EDT
DTSTART:20270314T070000
END:DAYLIGHT
BEGIN:STANDARD
TZOFFSETFROM:-0400
TZOFFSETTO:-0500
TZNAME:EST
DTSTART:20271107T060000
END:STANDARD
END:VTIMEZONE
BEGIN:VEVENT
DTSTART;TZID=America/New_York:20260523T070000
DTEND;TZID=America/New_York:20260523T160000
DTSTAMP:20260424T130249
CREATED:20251125T203820Z
LAST-MODIFIED:20251128T222246Z
UID:5981-1779519600-1779552000@fcff.org
SUMMARY:2026/05/23 (Saturday) Camp Weed/White Lake - Overnight Outing
DESCRIPTION:700a - 400p for tournament posting.\nRooms available 05/22 - 05/23 for overnight stay.\nSpecies: Largemouth Bass\, Bluegill\, and Crappie
URL:https://fcff.org/event/2026-05-23-saturday-camp-weed-white-lake/
CATEGORIES:Outings
END:VEVENT
BEGIN:VEVENT
DTSTART;TZID=America/New_York:20260620T070000
DTEND;TZID=America/New_York:20260620T150000
DTSTAMP:20260424T130249
CREATED:20251125T204738Z
LAST-MODIFIED:20251128T222240Z
UID:5983-1781938800-1781967600@fcff.org
SUMMARY:2026/06/20 (Saturday) Palm Valley/Nocatee - Low Tide Outing
DESCRIPTION:Low Tide Outing (Low @ 941a Launch @ 700a)\nSpecies:  Redfish and Trout
URL:https://fcff.org/event/2026-06-20-saturday-palm-valley-nocatee/
CATEGORIES:Outings
END:VEVENT
BEGIN:VEVENT
DTSTART;TZID=America/New_York:20260727T153000
DTEND;TZID=America/New_York:20260728T030000
DTSTAMP:20260424T130249
CREATED:20251125T205009Z
LAST-MODIFIED:20251128T222233Z
UID:5985-1785166200-1785207600@fcff.org
SUMMARY:2026/07/27 (Monday) Palm Valley - Nighttime Dock Light outing
DESCRIPTION:High tide @ 1026 Launch @ 730p\nSpecies: Redfish and Trout
URL:https://fcff.org/event/2026-07-27-monday-palm-valley-nighttime-dock-light-outing/
CATEGORIES:Outings
END:VEVENT
BEGIN:VEVENT
DTSTART;TZID=America/New_York:20260825T193000
DTEND;TZID=America/New_York:20260826T030000
DTSTAMP:20260424T130249
CREATED:20251125T205227Z
LAST-MODIFIED:20251128T222226Z
UID:5987-1787686200-1787713200@fcff.org
SUMMARY:2026/08/25 (Tuesday) Bings Landing (Flagler County) Nighttime Dock Light Outing
DESCRIPTION:High @ 1015p Launch 730p\nSpecies: Redfish\, Trout and Snook
URL:https://fcff.org/event/2026-08-25-tuesday-bings-landing-flagler-county-dock-light-outing-event/
CATEGORIES:Outings
END:VEVENT
BEGIN:VEVENT
DTSTART;TZID=America/New_York:20261010T080000
DTEND;TZID=America/New_York:20261010T160000
DTSTAMP:20260424T130249
CREATED:20251125T205528Z
LAST-MODIFIED:20251128T222218Z
UID:5991-1791619200-1791648000@fcff.org
SUMMARY:2026/10/10 (Saturday) Palm Valley/Nocatee - Flood Tide Outing
DESCRIPTION:High with 5.9 @ 1118a Launch @ 800a\nSpecies: Redfish and Trout
URL:https://fcff.org/event/2026-10-10-saturday-palm-valley-nocatee-flood-tide-outing/
CATEGORIES:Outings
END:VEVENT
BEGIN:VEVENT
DTSTART;TZID=America/New_York:20261121T090000
DTEND;TZID=America/New_York:20261121T170000
DTSTAMP:20260424T130249
CREATED:20251125T205653Z
LAST-MODIFIED:20251128T222210Z
UID:5993-1795251600-1795280400@fcff.org
SUMMARY:2026/11/21 (Saturday) Cedar Point Boat Ramp - Low Tide Outing
DESCRIPTION:Low @ 1210p Launch @900a\nSpecies: Redfish and Trout
URL:https://fcff.org/event/2026-11-21-saturday-cedar-point-boat-ramp-low-tide-outing/
CATEGORIES:Outings
END:VEVENT
BEGIN:VEVENT
DTSTART;TZID=America/New_York:20261219T090000
DTEND;TZID=America/New_York:20261219T170000
DTSTAMP:20260424T130249
CREATED:20251125T205825Z
LAST-MODIFIED:20251128T222201Z
UID:5995-1797670800-1797699600@fcff.org
SUMMARY:2026/12/19 (Saturday) Palm Valley/Nocatee - Low Tide Outing
DESCRIPTION:Low @ 1152a Launch @ 900a\nSpecies: Redfish and Trout
URL:https://fcff.org/event/2026-12-19-saturday-palm-valley-nocatee-low-tide-outing/
CATEGORIES:Outings
END:VEVENT
END:VCALENDAR