BEGIN:VCALENDAR
VERSION:2.0
PRODID:-//First Coast Fly Fishers - ECPv6.15.20//NONSGML v1.0//EN
CALSCALE:GREGORIAN
METHOD:PUBLISH
X-WR-CALNAME:First Coast Fly Fishers
X-ORIGINAL-URL:https://fcff.org
X-WR-CALDESC:Events for First Coast Fly Fishers
REFRESH-INTERVAL;VALUE=DURATION:PT1H
X-Robots-Tag:noindex
X-PUBLISHED-TTL:PT1H
BEGIN:VTIMEZONE
TZID:America/New_York
BEGIN:DAYLIGHT
TZOFFSETFROM:-0500
TZOFFSETTO:-0400
TZNAME:EDT
DTSTART:20240310T070000
END:DAYLIGHT
BEGIN:STANDARD
TZOFFSETFROM:-0400
TZOFFSETTO:-0500
TZNAME:EST
DTSTART:20241103T060000
END:STANDARD
BEGIN:DAYLIGHT
TZOFFSETFROM:-0500
TZOFFSETTO:-0400
TZNAME:EDT
DTSTART:20250309T070000
END:DAYLIGHT
BEGIN:STANDARD
TZOFFSETFROM:-0400
TZOFFSETTO:-0500
TZNAME:EST
DTSTART:20251102T060000
END:STANDARD
BEGIN:DAYLIGHT
TZOFFSETFROM:-0500
TZOFFSETTO:-0400
TZNAME:EDT
DTSTART:20260308T070000
END:DAYLIGHT
BEGIN:STANDARD
TZOFFSETFROM:-0400
TZOFFSETTO:-0500
TZNAME:EST
DTSTART:20261101T060000
END:STANDARD
BEGIN:DAYLIGHT
TZOFFSETFROM:-0500
TZOFFSETTO:-0400
TZNAME:EDT
DTSTART:20270314T070000
END:DAYLIGHT
BEGIN:STANDARD
TZOFFSETFROM:-0400
TZOFFSETTO:-0500
TZNAME:EST
DTSTART:20271107T060000
END:STANDARD
END:VTIMEZONE
BEGIN:VEVENT
DTSTART;TZID=America/New_York:20260213T070000
DTEND;TZID=America/New_York:20260215T150000
DTSTAMP:20260424T190312
CREATED:20251125T014208Z
LAST-MODIFIED:20251128T222310Z
UID:5910-1770966000-1771167600@fcff.org
SUMMARY:2026/02/14 (Saturday) Camp Weed/White Lake - Overnight Outing (First 2026 Tournament Event)
DESCRIPTION:                         Overnight rooms available 13th through the 15th\n                         Species: Largemouth bass\, Crappie and Bluegill
URL:https://fcff.org/event/feb-outing-camp-weed-overnight/
LOCATION:Camp Weed\, 11057 Camp Weed Place\, Live Oak\, 32060\, United States
CATEGORIES:Outings
END:VEVENT
BEGIN:VEVENT
DTSTART;TZID=America/New_York:20260207T070000
DTEND;TZID=America/New_York:20260207T150000
DTSTAMP:20260424T190312
CREATED:20251118T205056Z
LAST-MODIFIED:20251215T234537Z
UID:5344-1770447600-1770476400@fcff.org
SUMMARY:2026/02/07 (Saturday) Rendezvous and Tournament @ Sister’s Creek Jim King Boat Ramp - Low Tide Event
DESCRIPTION:Optional fishing tournament (Low Tide 6:12am\, launch 6:30am check-in 11:00am); Lunch\, Plus Fly Casting and Fly-Tying led by Expert Instructors
URL:https://fcff.org/event/2026-rendezvous-sisters-creek-feb-7/
LOCATION:Sister’s Creek – Jim King Ramp\, 8203 Heckscher Dr\, Jacksonville\, Florida\, 32226\, United States
CATEGORIES:Outings
END:VEVENT
BEGIN:VEVENT
DTSTART;TZID=America/New_York:20260110T063000
DTEND;TZID=America/New_York:20260110T143000
DTSTAMP:20260424T190312
CREATED:20251125T013708Z
LAST-MODIFIED:20251227T183536Z
UID:5907-1768026600-1768055400@fcff.org
SUMMARY:2026/01/10 (Saturday) Sister’s Creek (Jim King Boat Ramp) Low Tide Outing
DESCRIPTION:(7:49am Low Tide\, Launch @6:30am\, End 1:00pm)
URL:https://fcff.org/event/jan-outing/
LOCATION:Sister’s Creek – Jim King Ramp\, 8203 Heckscher Dr\, Jacksonville\, Florida\, 32226\, United States
CATEGORIES:Outings
END:VEVENT
BEGIN:VEVENT
DTSTART;TZID=America/New_York:20260105T080000
DTEND;TZID=America/New_York:20260105T170000
DTSTAMP:20260424T190312
CREATED:20251125T220744Z
LAST-MODIFIED:20251128T222405Z
UID:6001-1767600000-1767632400@fcff.org
SUMMARY:2026/01/05 (Monday) Monthly Meeting - Chad Helenthal\, Avid Fly Fisher
DESCRIPTION:Creator of the Shad on the Fly Website and FB Group
URL:https://fcff.org/event/2026-01-05-monday-chad-helenthal-avid-fly-fisher/
LOCATION:Victory Lutheran Church\, 4651 Kernan Blvd S\, Jacksonville\, 32224\, United States
CATEGORIES:Meetings
END:VEVENT
BEGIN:VEVENT
DTSTART;TZID=America/New_York:20251213T073000
DTEND;TZID=America/New_York:20251213T120000
DTSTAMP:20260424T190312
CREATED:20251125T043038Z
LAST-MODIFIED:20251212T194310Z
UID:4234-1765611000-1765627200@fcff.org
SUMMARY:2025/12/13 (Saturday) Sisters Creek Jim King Ramp - Low Tide Outing
DESCRIPTION:(10:00am Low Tide\, Launch @7:00am) End 1:00pm \n 
URL:https://fcff.org/event/trout-creek/
LOCATION:Sister’s Creek – Jim King Ramp\, 8203 Heckscher Dr\, Jacksonville\, Florida\, 32226\, United States
CATEGORIES:Outings
END:VEVENT
BEGIN:VEVENT
DTSTART;TZID=America/New_York:20251201T180000
DTEND;TZID=America/New_York:20251201T203000
DTSTAMP:20260424T190312
CREATED:20251125T043038Z
LAST-MODIFIED:20251128T222354Z
UID:3308-1764612000-1764621000@fcff.org
SUMMARY:2025/12/01 (Monday) Monthly Meeting - Holiday Social Event & Andy Mill (Mill House Podcast)
DESCRIPTION:FCFF Holiday Event \n6-7pm Social gathering with appetizers & treats \n7-8:30pm Regular Meeting with Andy Mill via Zoom
URL:https://fcff.org/event/dec-2-meeting-swap-meet-social/
LOCATION:Victory Lutheran Church\, 4651 Kernan Blvd S\, Jacksonville\, 32224\, United States
CATEGORIES:Meetings
END:VEVENT
BEGIN:VEVENT
DTSTART;TZID=America/New_York:20251125T080000
DTEND;TZID=America/New_York:20251125T170000
DTSTAMP:20260424T190312
CREATED:20251125T205348Z
LAST-MODIFIED:20251128T222342Z
UID:5989-1764057600-1764090000@fcff.org
SUMMARY:2026/09/12 (Saturday) Cedar Point Boat Ramp - Flood Tide Outing
DESCRIPTION:High with a 5.6 @ 1013a Launch @ 700a\nSpecies: Redfish and Trout
URL:https://fcff.org/event/2026-09-12-saturday-cedar-point-boat-ramp-flood-tide-outing/
LOCATION:FL
CATEGORIES:Outings
END:VEVENT
END:VCALENDAR