BEGIN:VCALENDAR
VERSION:2.0
PRODID:-//First Coast Fly Fishers - ECPv6.15.20//NONSGML v1.0//EN
CALSCALE:GREGORIAN
METHOD:PUBLISH
X-ORIGINAL-URL:https://fcff.org
X-WR-CALDESC:Events for First Coast Fly Fishers
REFRESH-INTERVAL;VALUE=DURATION:PT1H
X-Robots-Tag:noindex
X-PUBLISHED-TTL:PT1H
BEGIN:VTIMEZONE
TZID:America/New_York
BEGIN:DAYLIGHT
TZOFFSETFROM:-0500
TZOFFSETTO:-0400
TZNAME:EDT
DTSTART:20250309T070000
END:DAYLIGHT
BEGIN:STANDARD
TZOFFSETFROM:-0400
TZOFFSETTO:-0500
TZNAME:EST
DTSTART:20251102T060000
END:STANDARD
BEGIN:DAYLIGHT
TZOFFSETFROM:-0500
TZOFFSETTO:-0400
TZNAME:EDT
DTSTART:20260308T070000
END:DAYLIGHT
BEGIN:STANDARD
TZOFFSETFROM:-0400
TZOFFSETTO:-0500
TZNAME:EST
DTSTART:20261101T060000
END:STANDARD
BEGIN:DAYLIGHT
TZOFFSETFROM:-0500
TZOFFSETTO:-0400
TZNAME:EDT
DTSTART:20270314T070000
END:DAYLIGHT
BEGIN:STANDARD
TZOFFSETFROM:-0400
TZOFFSETTO:-0500
TZNAME:EST
DTSTART:20271107T060000
END:STANDARD
END:VTIMEZONE
BEGIN:VEVENT
DTSTART;TZID=America/New_York:20260601T180000
DTEND;TZID=America/New_York:20260601T203000
DTSTAMP:20260424T143830
CREATED:20251130T213909Z
LAST-MODIFIED:20260219T215154Z
UID:6076-1780336800-1780345800@fcff.org
SUMMARY:2026/06/01 Monday) Monthly Meeting - Capt Caleb Blackburn\, Grand Slam Charters
DESCRIPTION:Palm Coast Tarpon and redfish
URL:https://fcff.org/event/2026-06-01-capt-caleb-blackburn-grand-slam-charters/
LOCATION:FL
CATEGORIES:Meetings
END:VEVENT
BEGIN:VEVENT
DTSTART;TZID=America/New_York:20260615T183000
DTEND;TZID=America/New_York:20260615T203000
DTSTAMP:20260424T143830
CREATED:20260311T144123Z
LAST-MODIFIED:20260311T144900Z
UID:7784-1781548200-1781555400@fcff.org
SUMMARY:Board Meeting
DESCRIPTION:
URL:https://fcff.org/event/board-meeting-june/
LOCATION:Southeast Regional Library\, 10599 Deerwood Park Blvd\, 10599 Deerwood Park Blvd\, Jacksonville\, FL\, 32256\, United States
ORGANIZER;CN="Paul Hutchins":MAILTO:pfhutchins@comcast.net
END:VEVENT
BEGIN:VEVENT
DTSTART;TZID=America/New_York:20260620T070000
DTEND;TZID=America/New_York:20260620T150000
DTSTAMP:20260424T143830
CREATED:20251125T204738Z
LAST-MODIFIED:20251128T222240Z
UID:5983-1781938800-1781967600@fcff.org
SUMMARY:2026/06/20 (Saturday) Palm Valley/Nocatee - Low Tide Outing
DESCRIPTION:Low Tide Outing (Low @ 941a Launch @ 700a)\nSpecies:  Redfish and Trout
URL:https://fcff.org/event/2026-06-20-saturday-palm-valley-nocatee/
LOCATION:FL
CATEGORIES:Outings
END:VEVENT
END:VCALENDAR