BEGIN:VCALENDAR
VERSION:2.0
PRODID:-//First Coast Fly Fishers - ECPv6.15.20//NONSGML v1.0//EN
CALSCALE:GREGORIAN
METHOD:PUBLISH
X-WR-CALNAME:First Coast Fly Fishers
X-ORIGINAL-URL:https://fcff.org
X-WR-CALDESC:Events for First Coast Fly Fishers
REFRESH-INTERVAL;VALUE=DURATION:PT1H
X-Robots-Tag:noindex
X-PUBLISHED-TTL:PT1H
BEGIN:VTIMEZONE
TZID:America/New_York
BEGIN:DAYLIGHT
TZOFFSETFROM:-0500
TZOFFSETTO:-0400
TZNAME:EDT
DTSTART:20250309T070000
END:DAYLIGHT
BEGIN:STANDARD
TZOFFSETFROM:-0400
TZOFFSETTO:-0500
TZNAME:EST
DTSTART:20251102T060000
END:STANDARD
BEGIN:DAYLIGHT
TZOFFSETFROM:-0500
TZOFFSETTO:-0400
TZNAME:EDT
DTSTART:20260308T070000
END:DAYLIGHT
BEGIN:STANDARD
TZOFFSETFROM:-0400
TZOFFSETTO:-0500
TZNAME:EST
DTSTART:20261101T060000
END:STANDARD
BEGIN:DAYLIGHT
TZOFFSETFROM:-0500
TZOFFSETTO:-0400
TZNAME:EDT
DTSTART:20270314T070000
END:DAYLIGHT
BEGIN:STANDARD
TZOFFSETFROM:-0400
TZOFFSETTO:-0500
TZNAME:EST
DTSTART:20271107T060000
END:STANDARD
END:VTIMEZONE
BEGIN:VEVENT
DTSTART;TZID=America/New_York:20260907T180000
DTEND;TZID=America/New_York:20260907T203000
DTSTAMP:20260424T190813
CREATED:20251130T214407Z
LAST-MODIFIED:20251201T005517Z
UID:6082-1788804000-1788813000@fcff.org
SUMMARY:2026/09/07 (Monday) Monthly Meeting - Capt Reeves Carlisle
DESCRIPTION:Everglades Tarpon
URL:https://fcff.org/event/2026-09-03-capt-reeves-carlisle/
LOCATION:Victory Lutheran Church\, 4651 Kernan Blvd S\, Jacksonville\, 32224\, United States
CATEGORIES:Meetings
END:VEVENT
BEGIN:VEVENT
DTSTART;TZID=America/New_York:20260921T183000
DTEND;TZID=America/New_York:20260921T203000
DTSTAMP:20260424T190813
CREATED:20260311T145606Z
LAST-MODIFIED:20260311T145606Z
UID:7799-1790015400-1790022600@fcff.org
SUMMARY:Board Meeting
DESCRIPTION:
URL:https://fcff.org/event/board-meeting/
LOCATION:Southeast Regional Library\, 10599 Deerwood Park Blvd\, 10599 Deerwood Park Blvd\, Jacksonville\, FL\, 32256\, United States
ORGANIZER;CN="Paul Hutchins":MAILTO:pfhutchins@comcast.net
END:VEVENT
END:VCALENDAR