BEGIN:VCALENDAR
VERSION:2.0
PRODID:-//First Coast Fly Fishers - ECPv6.15.20//NONSGML v1.0//EN
CALSCALE:GREGORIAN
METHOD:PUBLISH
X-ORIGINAL-URL:https://fcff.org
X-WR-CALDESC:Events for First Coast Fly Fishers
REFRESH-INTERVAL;VALUE=DURATION:PT1H
X-Robots-Tag:noindex
X-PUBLISHED-TTL:PT1H
BEGIN:VTIMEZONE
TZID:America/New_York
BEGIN:DAYLIGHT
TZOFFSETFROM:-0500
TZOFFSETTO:-0400
TZNAME:EDT
DTSTART:20240310T070000
END:DAYLIGHT
BEGIN:STANDARD
TZOFFSETFROM:-0400
TZOFFSETTO:-0500
TZNAME:EST
DTSTART:20241103T060000
END:STANDARD
BEGIN:DAYLIGHT
TZOFFSETFROM:-0500
TZOFFSETTO:-0400
TZNAME:EDT
DTSTART:20250309T070000
END:DAYLIGHT
BEGIN:STANDARD
TZOFFSETFROM:-0400
TZOFFSETTO:-0500
TZNAME:EST
DTSTART:20251102T060000
END:STANDARD
BEGIN:DAYLIGHT
TZOFFSETFROM:-0500
TZOFFSETTO:-0400
TZNAME:EDT
DTSTART:20260308T070000
END:DAYLIGHT
BEGIN:STANDARD
TZOFFSETFROM:-0400
TZOFFSETTO:-0500
TZNAME:EST
DTSTART:20261101T060000
END:STANDARD
END:VTIMEZONE
BEGIN:VEVENT
DTSTART;TZID=America/New_York:20251125T080000
DTEND;TZID=America/New_York:20251125T170000
DTSTAMP:20260424T215852
CREATED:20251125T205348Z
LAST-MODIFIED:20251128T222342Z
UID:5989-1764057600-1764090000@fcff.org
SUMMARY:2026/09/12 (Saturday) Cedar Point Boat Ramp - Flood Tide Outing
DESCRIPTION:High with a 5.6 @ 1013a Launch @ 700a\nSpecies: Redfish and Trout
URL:https://fcff.org/event/2026-09-12-saturday-cedar-point-boat-ramp-flood-tide-outing/
CATEGORIES:Outings
END:VEVENT
END:VCALENDAR